Package: UMI4Cats Version: 1.16.0 Command: /home/biocbuild/R/R/bin/R CMD INSTALL UMI4Cats StartedAt: 2025-02-13 21:12:46 -0000 (Thu, 13 Feb 2025) EndedAt: 2025-02-13 21:13:36 -0000 (Thu, 13 Feb 2025) EllapsedTime: 50.3 seconds RetCode: 0 Status: OK