Package: UMI4Cats Version: 1.16.0 Command: /home/biocbuild/R/R/bin/R CMD check --install=check:UMI4Cats.install-out.txt --library=/home/biocbuild/R/R/site-library --no-vignettes --timings UMI4Cats_1.16.0.tar.gz StartedAt: 2025-02-14 11:51:06 -0000 (Fri, 14 Feb 2025) EndedAt: 2025-02-14 11:58:37 -0000 (Fri, 14 Feb 2025) EllapsedTime: 450.8 seconds RetCode: 0 Status: OK CheckDir: UMI4Cats.Rcheck Warnings: 0