Package: UMI4Cats Version: 1.16.0 Command: /home/biocbuild/R/R/bin/R CMD build --keep-empty-dirs --no-resave-data UMI4Cats StartedAt: 2025-02-14 03:33:37 -0000 (Fri, 14 Feb 2025) EndedAt: 2025-02-14 03:35:54 -0000 (Fri, 14 Feb 2025) EllapsedTime: 136.1 seconds RetCode: 0 Status: OK PackageFile: UMI4Cats_1.16.0.tar.gz PackageFileSize: 3.393 MiB