Package: UCell Version: 2.10.1 Command: /Library/Frameworks/R.framework/Resources/bin/R CMD build --keep-empty-dirs --no-resave-data UCell StartedAt: 2025-01-31 09:56:19 -0500 (Fri, 31 Jan 2025) EndedAt: 2025-01-31 10:03:50 -0500 (Fri, 31 Jan 2025) EllapsedTime: 451.6 seconds RetCode: 0 Status: OK PackageFile: UCell_2.10.1.tar.gz PackageFileSize: 1.675 MiB