Package: UCSC.utils Version: 1.2.0 Command: /home/biocbuild/R/R/bin/R CMD INSTALL UCSC.utils StartedAt: 2025-01-27 21:09:02 -0000 (Mon, 27 Jan 2025) EndedAt: 2025-01-27 21:09:25 -0000 (Mon, 27 Jan 2025) EllapsedTime: 23.8 seconds RetCode: 0 Status: OK