Package: UCSC.utils Version: 1.2.0 Command: /home/biocbuild/bbs-3.20-bioc/R/bin/R CMD check --install=check:UCSC.utils.install-out.txt --library=/home/biocbuild/bbs-3.20-bioc/R/site-library --timings UCSC.utils_1.2.0.tar.gz StartedAt: 2025-01-28 04:09:13 -0500 (Tue, 28 Jan 2025) EndedAt: 2025-01-28 04:10:17 -0500 (Tue, 28 Jan 2025) EllapsedTime: 64.0 seconds RetCode: 0 Status: OK CheckDir: UCSC.utils.Rcheck Warnings: 0