Package: UCSC.utils Version: 1.2.0 Command: /home/biocbuild/bbs-3.20-bioc/R/bin/R CMD build --keep-empty-dirs --no-resave-data --md5 UCSC.utils StartedAt: 2025-01-27 20:29:36 -0500 (Mon, 27 Jan 2025) EndedAt: 2025-01-27 20:29:48 -0500 (Mon, 27 Jan 2025) EllapsedTime: 12.0 seconds RetCode: 0 Status: OK PackageFile: UCSC.utils_1.2.0.tar.gz PackageFileSize: 231.3 KiB