Package: UCSC.utils Version: 1.2.0 Command: /Library/Frameworks/R.framework/Resources/bin/R CMD check --install=check:UCSC.utils.install-out.txt --library=/Library/Frameworks/R.framework/Resources/library --no-vignettes --timings UCSC.utils_1.2.0.tar.gz StartedAt: 2025-01-28 11:52:24 -0500 (Tue, 28 Jan 2025) EndedAt: 2025-01-28 11:54:22 -0500 (Tue, 28 Jan 2025) EllapsedTime: 118.1 seconds RetCode: 0 Status: OK CheckDir: UCSC.utils.Rcheck Warnings: 0