Package: UCSC.utils Version: 1.2.0 Command: /Library/Frameworks/R.framework/Resources/bin/R CMD build --keep-empty-dirs --no-resave-data UCSC.utils StartedAt: 2025-01-27 23:21:06 -0500 (Mon, 27 Jan 2025) EndedAt: 2025-01-27 23:21:30 -0500 (Mon, 27 Jan 2025) EllapsedTime: 23.7 seconds RetCode: 0 Status: OK PackageFile: UCSC.utils_1.2.0.tar.gz PackageFileSize: 230.5 KiB