Package: UCSC.utils Version: 1.2.0 Command: rm -rf UCSC.utils.buildbin-libdir && mkdir UCSC.utils.buildbin-libdir && /Users/biocbuild/BBS/utils/build-universal.sh UCSC.utils_1.2.0.tar.gz /Library/Frameworks/R.framework/Resources/bin/R UCSC.utils.buildbin-libdir StartedAt: 2024-11-09 17:16:48 -0500 (Sat, 09 Nov 2024) EndedAt: 2024-11-09 17:16:50 -0500 (Sat, 09 Nov 2024) EllapsedTime: 2.0 seconds RetCode: 0 Status: OK PackageFile: UCSC.utils_1.2.0.tgz PackageFileSize: 282.7 KiB