Package: UCSC.utils Version: 1.2.0 Command: /Library/Frameworks/R.framework/Resources/bin/R CMD INSTALL UCSC.utils StartedAt: 2025-03-31 15:19:41 -0400 (Mon, 31 Mar 2025) EndedAt: 2025-03-31 15:19:47 -0400 (Mon, 31 Mar 2025) EllapsedTime: 5.9 seconds RetCode: 0 Status: OK