Package: TreeSummarizedExperiment Version: 2.14.0 Command: /home/biocbuild/bbs-3.20-bioc/R/bin/R CMD INSTALL TreeSummarizedExperiment StartedAt: 2025-01-27 16:19:02 -0500 (Mon, 27 Jan 2025) EndedAt: 2025-01-27 16:19:34 -0500 (Mon, 27 Jan 2025) EllapsedTime: 31.8 seconds RetCode: 0 Status: OK