Package: TreeSummarizedExperiment Version: 2.14.0 Command: /Library/Frameworks/R.framework/Resources/bin/R CMD INSTALL TreeSummarizedExperiment StartedAt: 2025-01-27 15:57:38 -0500 (Mon, 27 Jan 2025) EndedAt: 2025-01-27 15:58:16 -0500 (Mon, 27 Jan 2025) EllapsedTime: 38.0 seconds RetCode: 0 Status: OK