Package: TreeAndLeaf Version: 1.18.0 Command: /home/biocbuild/R/R/bin/R CMD check --install=check:TreeAndLeaf.install-out.txt --library=/home/biocbuild/R/R/site-library --no-vignettes --timings TreeAndLeaf_1.18.0.tar.gz StartedAt: 2025-01-28 12:04:22 -0000 (Tue, 28 Jan 2025) EndedAt: 2025-01-28 12:04:55 -0000 (Tue, 28 Jan 2025) EllapsedTime: 33.0 seconds RetCode: 0 Status: OK CheckDir: TreeAndLeaf.Rcheck Warnings: 0