Package: TreeAndLeaf Version: 1.18.0 Command: /home/biocbuild/R/R/bin/R CMD build --keep-empty-dirs --no-resave-data TreeAndLeaf StartedAt: 2025-02-04 03:38:40 -0000 (Tue, 04 Feb 2025) EndedAt: 2025-02-04 03:39:00 -0000 (Tue, 04 Feb 2025) EllapsedTime: 20.0 seconds RetCode: 0 Status: OK PackageFile: TreeAndLeaf_1.18.0.tar.gz PackageFileSize: 5.646 MiB