Package: TransView Version: 1.50.1 Command: /home/biocbuild/R/R/bin/R CMD INSTALL TransView StartedAt: 2025-03-31 20:24:50 -0000 (Mon, 31 Mar 2025) EndedAt: 2025-03-31 20:25:10 -0000 (Mon, 31 Mar 2025) EllapsedTime: 20.2 seconds RetCode: 0 Status: OK