Package: TransView Version: 1.50.1 Command: /home/biocbuild/R/R/bin/R CMD check --install=check:TransView.install-out.txt --library=/home/biocbuild/R/R/site-library --no-vignettes --timings TransView_1.50.1.tar.gz StartedAt: 2025-04-01 11:29:37 -0000 (Tue, 01 Apr 2025) EndedAt: 2025-04-01 11:31:27 -0000 (Tue, 01 Apr 2025) EllapsedTime: 110.2 seconds RetCode: 0 Status: OK CheckDir: TransView.Rcheck Warnings: 0