Package: TransView Version: 1.50.1 Command: /home/biocbuild/R/R/bin/R CMD build --keep-empty-dirs --no-resave-data TransView StartedAt: 2025-04-01 03:16:11 -0000 (Tue, 01 Apr 2025) EndedAt: 2025-04-01 03:16:42 -0000 (Tue, 01 Apr 2025) EllapsedTime: 31.0 seconds RetCode: 0 Status: OK PackageFile: TransView_1.50.1.tar.gz PackageFileSize: 1.868 MiB