Package: TransView Version: 1.50.1 Command: /home/biocbuild/bbs-3.20-bioc/R/bin/R CMD INSTALL TransView StartedAt: 2025-03-31 15:19:47 -0400 (Mon, 31 Mar 2025) EndedAt: 2025-03-31 15:20:01 -0400 (Mon, 31 Mar 2025) EllapsedTime: 14.6 seconds RetCode: 0 Status: OK