Package: TransView Version: 1.50.1 Command: /home/biocbuild/bbs-3.20-bioc/R/bin/R CMD build --keep-empty-dirs --no-resave-data --md5 TransView StartedAt: 2025-01-30 19:31:44 -0500 (Thu, 30 Jan 2025) EndedAt: 2025-01-30 19:32:02 -0500 (Thu, 30 Jan 2025) EllapsedTime: 18.0 seconds RetCode: 1 Status: ERROR PackageFile: None PackageFileSize: NA