Package: TrajectoryGeometry Version: 1.14.0 Command: /home/biocbuild/R/R/bin/R CMD INSTALL TrajectoryGeometry StartedAt: 2025-03-31 20:42:24 -0000 (Mon, 31 Mar 2025) EndedAt: 2025-03-31 20:42:31 -0000 (Mon, 31 Mar 2025) EllapsedTime: 6.1 seconds RetCode: 0 Status: OK