Package: TrajectoryGeometry Version: 1.14.0 Command: /home/biocbuild/bbs-3.20-bioc/R/bin/R CMD INSTALL TrajectoryGeometry StartedAt: 2025-03-31 15:34:41 -0400 (Mon, 31 Mar 2025) EndedAt: 2025-03-31 15:34:45 -0400 (Mon, 31 Mar 2025) EllapsedTime: 4.6 seconds RetCode: 0 Status: OK