Package: ToxicoGx Version: 2.10.0 Command: /home/biocbuild/bbs-3.20-bioc/R/bin/R CMD check --install=check:ToxicoGx.install-out.txt --library=/home/biocbuild/bbs-3.20-bioc/R/site-library --timings ToxicoGx_2.10.0.tar.gz StartedAt: 2025-04-01 03:00:47 -0400 (Tue, 01 Apr 2025) EndedAt: 2025-04-01 03:05:17 -0400 (Tue, 01 Apr 2025) EllapsedTime: 270.2 seconds RetCode: 0 Status: OK CheckDir: ToxicoGx.Rcheck Warnings: 0