Package: TnT Version: 1.28.0 Command: /Library/Frameworks/R.framework/Resources/bin/R CMD check --install=check:TnT.install-out.txt --library=/Library/Frameworks/R.framework/Resources/library --no-vignettes --timings TnT_1.28.0.tar.gz StartedAt: 2025-04-01 10:22:44 -0400 (Tue, 01 Apr 2025) EndedAt: 2025-04-01 10:25:59 -0400 (Tue, 01 Apr 2025) EllapsedTime: 195.5 seconds RetCode: 0 Status: OK CheckDir: TnT.Rcheck Warnings: 0