Package: TnT Version: 1.28.0 Command: /home/biocbuild/R/R/bin/R CMD INSTALL TnT StartedAt: 2024-11-19 20:59:32 -0000 (Tue, 19 Nov 2024) EndedAt: 2024-11-19 20:59:52 -0000 (Tue, 19 Nov 2024) EllapsedTime: 19.6 seconds RetCode: 0 Status: OK