Package: TitanCNA Version: 1.44.0 Command: chmod a+r TitanCNA -R && F:\biocbuild\bbs-3.20-bioc\R\bin\R.exe CMD build --keep-empty-dirs --no-resave-data TitanCNA StartedAt: 2025-01-30 22:19:56 -0500 (Thu, 30 Jan 2025) EndedAt: 2025-01-30 22:21:59 -0500 (Thu, 30 Jan 2025) EllapsedTime: 123.6 seconds RetCode: 0 Status: OK PackageFile: TitanCNA_1.44.0.tar.gz PackageFileSize: 3.604 MiB