Package: TitanCNA Version: 1.44.0 Command: /home/biocbuild/bbs-3.20-bioc/R/bin/R CMD INSTALL TitanCNA StartedAt: 2025-01-30 15:24:29 -0500 (Thu, 30 Jan 2025) EndedAt: 2025-01-30 15:25:12 -0500 (Thu, 30 Jan 2025) EllapsedTime: 42.9 seconds RetCode: 0 Status: OK