Package: TitanCNA Version: 1.44.0 Command: /Library/Frameworks/R.framework/Resources/bin/R CMD build --keep-empty-dirs --no-resave-data TitanCNA StartedAt: 2025-01-30 23:27:27 -0500 (Thu, 30 Jan 2025) EndedAt: 2025-01-30 23:30:21 -0500 (Thu, 30 Jan 2025) EllapsedTime: 174.1 seconds RetCode: 0 Status: OK PackageFile: TitanCNA_1.44.0.tar.gz PackageFileSize: 3.924 MiB