Package: TissueEnrich Version: 1.26.0 Command: /home/biocbuild/R/R/bin/R CMD check --install=check:TissueEnrich.install-out.txt --library=/home/biocbuild/R/R/site-library --no-vignettes --timings TissueEnrich_1.26.0.tar.gz StartedAt: 2025-01-31 11:05:59 -0000 (Fri, 31 Jan 2025) EndedAt: 2025-01-31 11:10:03 -0000 (Fri, 31 Jan 2025) EllapsedTime: 244.3 seconds RetCode: 0 Status: OK CheckDir: TissueEnrich.Rcheck Warnings: 0