Package: TissueEnrich Version: 1.26.0 Command: /home/biocbuild/R/R/bin/R CMD build --keep-empty-dirs --no-resave-data TissueEnrich StartedAt: 2025-01-31 03:12:36 -0000 (Fri, 31 Jan 2025) EndedAt: 2025-01-31 03:13:34 -0000 (Fri, 31 Jan 2025) EllapsedTime: 58.0 seconds RetCode: 0 Status: OK PackageFile: TissueEnrich_1.26.0.tar.gz PackageFileSize: 3.383 MiB