Package: TissueEnrich Version: 1.26.0 Command: F:\biocbuild\bbs-3.20-bioc\R\bin\R.exe CMD INSTALL TissueEnrich StartedAt: 2025-01-30 15:58:58 -0500 (Thu, 30 Jan 2025) EndedAt: 2025-01-30 15:59:32 -0500 (Thu, 30 Jan 2025) EllapsedTime: 34.0 seconds RetCode: 0 Status: OK