Package: TissueEnrich Version: 1.26.0 Command: F:\biocbuild\bbs-3.20-bioc\R\bin\R.exe CMD check --no-multiarch --install=check:TissueEnrich.install-out.txt --library=F:\biocbuild\bbs-3.20-bioc\R\library --no-vignettes --timings TissueEnrich_1.26.0.tar.gz StartedAt: 2025-02-04 07:06:42 -0500 (Tue, 04 Feb 2025) EndedAt: 2025-02-04 07:10:50 -0500 (Tue, 04 Feb 2025) EllapsedTime: 248.1 seconds RetCode: 0 Status: OK CheckDir: TissueEnrich.Rcheck Warnings: 0