Package: TissueEnrich Version: 1.26.0 Command: rm -rf TissueEnrich.buildbin-libdir && mkdir TissueEnrich.buildbin-libdir && F:\biocbuild\bbs-3.20-bioc\R\bin\R.exe CMD INSTALL --build --library=TissueEnrich.buildbin-libdir TissueEnrich_1.26.0.tar.gz StartedAt: 2025-02-04 09:41:17 -0500 (Tue, 04 Feb 2025) EndedAt: 2025-02-04 09:41:50 -0500 (Tue, 04 Feb 2025) EllapsedTime: 33.1 seconds RetCode: 0 Status: OK PackageFile: TissueEnrich_1.26.0.zip PackageFileSize: 3.363 MiB