Package: TileDBArray Version: 1.16.0 Command: /home/biocbuild/R/R/bin/R CMD INSTALL TileDBArray StartedAt: 2025-01-27 21:13:39 -0000 (Mon, 27 Jan 2025) EndedAt: 2025-01-27 21:13:40 -0000 (Mon, 27 Jan 2025) EllapsedTime: 1.0 seconds RetCode: 1 Status: ERROR