Package: TileDBArray Version: 1.16.0 Command: rm -rf TileDBArray.buildbin-libdir && mkdir TileDBArray.buildbin-libdir && F:\biocbuild\bbs-3.20-bioc\R\bin\R.exe CMD INSTALL --build --library=TileDBArray.buildbin-libdir TileDBArray_1.16.0.tar.gz StartedAt: 2025-04-01 09:23:56 -0400 (Tue, 01 Apr 2025) EndedAt: 2025-04-01 09:24:52 -0400 (Tue, 01 Apr 2025) EllapsedTime: 56.0 seconds RetCode: 0 Status: OK PackageFile: TileDBArray_1.16.0.zip PackageFileSize: 720.1 KiB