Package: TileDBArray Version: 1.16.0 Command: /home/biocbuild/bbs-3.20-bioc/R/bin/R CMD INSTALL TileDBArray StartedAt: 2025-01-27 16:01:18 -0500 (Mon, 27 Jan 2025) EndedAt: 2025-01-27 16:01:42 -0500 (Mon, 27 Jan 2025) EllapsedTime: 24.0 seconds RetCode: 0 Status: OK