Package: TileDBArray Version: 1.16.0 Command: /Library/Frameworks/R.framework/Resources/bin/R CMD check --install=check:TileDBArray.install-out.txt --library=/Library/Frameworks/R.framework/Resources/library --no-vignettes --timings TileDBArray_1.16.0.tar.gz StartedAt: 2025-04-02 11:25:47 -0400 (Wed, 02 Apr 2025) EndedAt: 2025-04-02 11:28:32 -0400 (Wed, 02 Apr 2025) EllapsedTime: 164.2 seconds RetCode: 0 Status: OK CheckDir: TileDBArray.Rcheck Warnings: 0