Package: TargetSearch Version: 2.8.0 Command: chmod a+r TargetSearch -R && F:\biocbuild\bbs-3.20-bioc\R\bin\R.exe CMD build --keep-empty-dirs --no-resave-data TargetSearch StartedAt: 2025-02-03 22:33:05 -0500 (Mon, 03 Feb 2025) EndedAt: 2025-02-03 22:34:33 -0500 (Mon, 03 Feb 2025) EllapsedTime: 88.0 seconds RetCode: 0 Status: OK PackageFile: TargetSearch_2.8.0.tar.gz PackageFileSize: 719.5 KiB