Package: TargetSearch Version: 2.8.0 Command: rm -rf TargetSearch.buildbin-libdir && mkdir TargetSearch.buildbin-libdir && F:\biocbuild\bbs-3.20-bioc\R\bin\R.exe CMD INSTALL --build --library=TargetSearch.buildbin-libdir TargetSearch_2.8.0.tar.gz StartedAt: 2025-04-01 09:22:09 -0400 (Tue, 01 Apr 2025) EndedAt: 2025-04-01 09:24:00 -0400 (Tue, 01 Apr 2025) EllapsedTime: 111.5 seconds RetCode: 0 Status: OK PackageFile: TargetSearch_2.8.0.zip PackageFileSize: 1.237 MiB