Package: TargetSearch Version: 2.8.0 Command: /Library/Frameworks/R.framework/Resources/bin/R CMD INSTALL TargetSearch StartedAt: 2025-01-27 15:14:33 -0500 (Mon, 27 Jan 2025) EndedAt: 2025-01-27 15:15:03 -0500 (Mon, 27 Jan 2025) EllapsedTime: 30.2 seconds RetCode: 0 Status: OK