Package: TargetScore Version: 1.44.0 Command: F:\biocbuild\bbs-3.20-bioc\R\bin\R.exe CMD check --no-multiarch --install=check:TargetScore.install-out.txt --library=F:\biocbuild\bbs-3.20-bioc\R\library --no-vignettes --timings TargetScore_1.44.0.tar.gz StartedAt: 2025-04-01 06:39:33 -0400 (Tue, 01 Apr 2025) EndedAt: 2025-04-01 06:40:25 -0400 (Tue, 01 Apr 2025) EllapsedTime: 52.4 seconds RetCode: 0 Status: OK CheckDir: TargetScore.Rcheck Warnings: 0