Package: TargetScore Version: 1.44.0 Command: chmod a+r TargetScore -R && F:\biocbuild\bbs-3.20-bioc\R\bin\R.exe CMD build --keep-empty-dirs --no-resave-data TargetScore StartedAt: 2025-03-31 22:18:26 -0400 (Mon, 31 Mar 2025) EndedAt: 2025-03-31 22:18:54 -0400 (Mon, 31 Mar 2025) EllapsedTime: 27.9 seconds RetCode: 0 Status: OK PackageFile: TargetScore_1.44.0.tar.gz PackageFileSize: 1.228 MiB