Package: TargetScore Version: 1.44.0 Command: /home/biocbuild/bbs-3.20-bioc/R/bin/R CMD check --install=check:TargetScore.install-out.txt --library=/home/biocbuild/bbs-3.20-bioc/R/site-library --timings TargetScore_1.44.0.tar.gz StartedAt: 2025-04-01 02:51:17 -0400 (Tue, 01 Apr 2025) EndedAt: 2025-04-01 02:52:02 -0400 (Tue, 01 Apr 2025) EllapsedTime: 45.2 seconds RetCode: 0 Status: OK CheckDir: TargetScore.Rcheck Warnings: 0