Package: TargetScore Version: 1.44.0 Command: /Library/Frameworks/R.framework/Resources/bin/R CMD build --keep-empty-dirs --no-resave-data TargetScore StartedAt: 2025-02-03 22:50:39 -0500 (Mon, 03 Feb 2025) EndedAt: 2025-02-03 22:51:26 -0500 (Mon, 03 Feb 2025) EllapsedTime: 47.1 seconds RetCode: 0 Status: OK PackageFile: TargetScore_1.44.0.tar.gz PackageFileSize: 1.228 MiB