Package: TargetScore Version: 1.44.0 Command: rm -rf TargetScore.buildbin-libdir && mkdir TargetScore.buildbin-libdir && /Users/biocbuild/BBS/utils/build-universal.sh TargetScore_1.44.0.tar.gz /Library/Frameworks/R.framework/Resources/bin/R TargetScore.buildbin-libdir StartedAt: 2025-01-31 13:50:11 -0500 (Fri, 31 Jan 2025) EndedAt: 2025-01-31 13:50:24 -0500 (Fri, 31 Jan 2025) EllapsedTime: 12.7 seconds RetCode: 0 Status: OK PackageFile: TargetScore_1.44.0.tgz PackageFileSize: 1.266 MiB