Package: TargetScore Version: 1.44.0 Command: /Library/Frameworks/R.framework/Resources/bin/R CMD build --keep-empty-dirs --no-resave-data TargetScore StartedAt: 2025-04-01 09:04:33 -0400 (Tue, 01 Apr 2025) EndedAt: 2025-04-01 09:04:57 -0400 (Tue, 01 Apr 2025) EllapsedTime: 24.0 seconds RetCode: 0 Status: OK PackageFile: TargetScore_1.44.0.tar.gz PackageFileSize: 1.229 MiB