Package: TVTB Version: 1.32.0 Command: /home/biocbuild/R/R/bin/R CMD build --keep-empty-dirs --no-resave-data TVTB StartedAt: 2025-02-04 03:42:02 -0000 (Tue, 04 Feb 2025) EndedAt: 2025-02-04 03:44:36 -0000 (Tue, 04 Feb 2025) EllapsedTime: 154.1 seconds RetCode: 0 Status: OK PackageFile: TVTB_1.32.0.tar.gz PackageFileSize: 1.529 MiB