Package: TVTB Version: 1.32.0 Command: /home/biocbuild/bbs-3.20-bioc/R/bin/R CMD build --keep-empty-dirs --no-resave-data --md5 TVTB StartedAt: 2025-03-31 19:31:14 -0400 (Mon, 31 Mar 2025) EndedAt: 2025-03-31 19:32:52 -0400 (Mon, 31 Mar 2025) EllapsedTime: 98.1 seconds RetCode: 0 Status: OK PackageFile: TVTB_1.32.0.tar.gz PackageFileSize: 1.531 MiB