Package: TSCAN Version: 1.44.0 Command: /home/biocbuild/R/R/bin/R CMD INSTALL TSCAN StartedAt: 2025-02-03 20:55:07 -0000 (Mon, 03 Feb 2025) EndedAt: 2025-02-03 20:55:39 -0000 (Mon, 03 Feb 2025) EllapsedTime: 31.7 seconds RetCode: 0 Status: OK