Package: TSCAN Version: 1.44.0 Command: /Library/Frameworks/R.framework/Resources/bin/R CMD INSTALL TSCAN StartedAt: 2025-01-27 16:41:42 -0500 (Mon, 27 Jan 2025) EndedAt: 2025-01-27 16:42:14 -0500 (Mon, 27 Jan 2025) EllapsedTime: 31.2 seconds RetCode: 0 Status: OK